BEGIN:VCALENDAR
VERSION:2.0
PRODID:-//ChamberMaster//Event Calendar 2.0//EN
METHOD:PUBLISH
X-PUBLISHED-TTL:P3D
REFRESH-INTERVAL:P3D
CALSCALE:GREGORIAN
BEGIN:VEVENT
DTSTART:20250528T140000Z
DTEND:20250528T150000Z
X-MICROSOFT-CDO-ALLDAYEVENT:FALSE
SUMMARY:Chamber Ambassadors Committee Meeting
DESCRIPTION:Chamber Ambassadors Committee \n\n\n\nThe Chamber Ambassadors welcome new members\, visit and connect with current members\, and assist with networking events\, ribbon cuttings and grand openings. Ideal for people looking to make connections for their businesses. \n\n\n\nThe Committee is chaired by  Anthony Lodato\, Account Executive\, Complete Payroll.\n\n\n\nMonthly meetings are typically held on the fourth Wednesday of the month at 10:00 am.\n\n\n\nThis is a closed group\; attendance is for Greece Regional Chamber Ambassadors Committee members only.  Greece Regional Chamber members who are interested in joining this group should contact Anthony Lodato\, Committee Chair\, at alodato@completepayroll.com.\n\n\n\nMission statement: \n\n"The Ambassadors Committee is committed to creating a positive and valuable Chamber experience by supporting member retention\, assisting with events\, and ensuring businesses receive the full benefits of their Chamber membership. As Ambassadors\, we serve as liaisons between the Chamber and our business community".
X-ALT-DESC;FMTTYPE=text/html:<br />\n<span style="color:#000000\;"><strong>Chamber Ambassadors Committee&nbsp\;</strong><br />\n<br />\nThe Chamber Ambassadors welcome new members\, visit and connect with current members\, and assist with networking events\, ribbon cuttings and grand openings. Ideal for people looking to make connections for their businesses.&nbsp\;<br />\n<br />\nThe Committee is chaired by&nbsp\; Anthony Lodato\, Account Executive\, Complete Payroll.<br />\n<br />\nMonthly meetings are typically held on the fourth Wednesday of the month at 10:00 am.<br />\n<br />\nThis is a closed group\; attendance is for Greece Regional Chamber Ambassadors Committee members only.&nbsp\; Greece Regional Chamber members who are interested in joining this group should contact Anthony Lodato\, Committee Chair\, at </span><span style="color:#0000FF\;"><u><strong>alodato@completepayroll.com</strong></u></span><span style="color:#000000\;">.</span><br />\n<br />\n<strong><span style="color: black\;"><span style="font-family: arial\, sans-serif\;">Mission statement:&nbsp\;</span></span></strong><br />\n<span style="color: black\;"><span style="font-family: arial\, sans-serif\;"><span style="font-size: 10.5pt\;">&quot\;The Ambassadors Committee is committed to creating a positive and valuable&nbsp\;Chamber experience by supporting member retention\, assisting with events\, and ensuring businesses receive&nbsp\;the full benefits of their Chamber membership. As Ambassadors\, we serve as liaisons between the Chamber and our business community&quot\;.&nbsp\;</span></span></span>
LOCATION:Greece Regional Chamber of Commerce Conference Room 2402 W. Ridge Rd. Rochester\, NY 14626
UID:e.261.9136
SEQUENCE:3
DTSTAMP:20260421T111008Z
URL:https://public.greecechamber.org/events/details/chamber-ambassadors-committee-meeting-05-28-2025-9136
END:VEVENT

END:VCALENDAR
