BEGIN:VCALENDAR
VERSION:2.0
PRODID:-//ChamberMaster//Event Calendar 2.0//EN
METHOD:PUBLISH
X-PUBLISHED-TTL:P3D
REFRESH-INTERVAL:P3D
CALSCALE:GREGORIAN
BEGIN:VEVENT
DTSTART:20250226T150000Z
DTEND:20250226T160000Z
X-MICROSOFT-CDO-ALLDAYEVENT:FALSE
SUMMARY:Chamber Ambassadors Committee Meeting
DESCRIPTION:Chamber Ambassadors Committee \n\n\n\nThe Chamber Ambassadors welcome new members\, visit and connect with current members\, and assist with networking events\, ribbon cuttings and grand openings. Ideal for people looking to make connections for their businesses. \n\n\n\nThe Committee is chaired by  Anthony Lodato\, Account Executive\, Complete Payroll.\n\n\n\nMonthly meetings are typically held on the fourth Wednesday of the month at 10:00 am.\n\n\n\nThis is a closed group\; attendance is for Greece Regional Chamber Ambassadors Committee members only.  Greece Regional Chamber members who are interested in joining this group should contact Anthony Lodato\, Committee Chair\, at alodato@completepayroll.com.
X-ALT-DESC;FMTTYPE=text/html:<br />\n<span style="color:#000000\;"><strong>Chamber Ambassadors Committee&nbsp\;</strong><br />\n<br />\nThe Chamber Ambassadors welcome new members\, visit and connect with current members\, and assist with networking events\, ribbon cuttings and grand openings. Ideal for people looking to make connections for their businesses.&nbsp\;<br />\n<br />\nThe Committee is chaired by&nbsp\; Anthony Lodato\, Account Executive\, Complete Payroll.<br />\n<br />\nMonthly meetings are typically held on the fourth Wednesday of the month at 10:00 am.<br />\n<br />\nThis is a closed group\; attendance is for Greece Regional Chamber Ambassadors Committee members only.&nbsp\; Greece Regional Chamber members who are interested in joining this group should contact Anthony Lodato\, Committee Chair\, at </span><span style="color:#0000FF\;"><u><strong>alodato@completepayroll.com</strong></u></span><span style="color:#000000\;">.</span>
LOCATION:Greece Regional Chamber of Commerce Conference Room 2402 W. Ridge Rd. Rochester\, NY 14626
UID:e.261.9133
SEQUENCE:3
DTSTAMP:20260421T111008Z
URL:https://public.greecechamber.org/events/details/chamber-ambassadors-committee-meeting-02-26-2025-9133
END:VEVENT

END:VCALENDAR
